BEGIN:VCALENDAR
METHOD:PUBLISH
PRODID:-//Weblication CMS
VERSION:2.0
BEGIN:VEVENT
SUMMARY:TSV Handball Herren
DTSTART:20241103T170000
DTEND:20241103T000000
DESCRIPTION:
LOCATION:
UID:https://tsv-badsaulgau.de/1848/veranstaltungen/termine/TSV-Handball-031124.php
URL:https://tsv-badsaulgau.de/1848/veranstaltungen/termine/TSV-Handball-031124.php
END:VEVENT
END:VCALENDAR