BEGIN:VCALENDAR
METHOD:PUBLISH
PRODID:-//Weblication CMS
VERSION:2.0
BEGIN:VEVENT
SUMMARY:TSV Handball Herren
DTSTART:20250118T180000
DTEND:20250118T000000
DESCRIPTION:
LOCATION:
UID:https://tsv-badsaulgau.de/1848/veranstaltungen/termine/TSV-Handball-180125.php
URL:https://tsv-badsaulgau.de/1848/veranstaltungen/termine/TSV-Handball-180125.php
END:VEVENT
END:VCALENDAR