BEGIN:VCALENDAR
METHOD:PUBLISH
PRODID:-//Weblication CMS
VERSION:2.0
BEGIN:VEVENT
SUMMARY:TSV Handball Herren
DTSTART:20241123T180000
DTEND:20241123T000000
DESCRIPTION:
LOCATION:Kronriedhalle
UID:https://tsv-badsaulgau.de/1848/veranstaltungen/termine/TSV-Handball-231124.php
URL:https://tsv-badsaulgau.de/1848/veranstaltungen/termine/TSV-Handball-231124.php
END:VEVENT
END:VCALENDAR